Package: BiocBook Version: 1.8.0 Command: /Library/Frameworks/R.framework/Resources/bin/R CMD check --install=check:BiocBook.install-out.txt --library=/Library/Frameworks/R.framework/Resources/library --no-vignettes --timings BiocBook_1.8.0.tar.gz StartedAt: 2025-11-10 18:56:35 -0500 (Mon, 10 Nov 2025) EndedAt: 2025-11-10 18:57:58 -0500 (Mon, 10 Nov 2025) EllapsedTime: 82.9 seconds RetCode: 0 Status: OK CheckDir: BiocBook.Rcheck Warnings: 0