Package: BiocBook Version: 1.8.0 Command: /Library/Frameworks/R.framework/Resources/bin/R CMD build --keep-empty-dirs --no-resave-data BiocBook StartedAt: 2025-11-10 15:45:32 -0500 (Mon, 10 Nov 2025) EndedAt: 2025-11-10 15:45:54 -0500 (Mon, 10 Nov 2025) EllapsedTime: 21.3 seconds RetCode: 0 Status: OK PackageFile: BiocBook_1.8.0.tar.gz PackageFileSize: 902.7 KiB