Package: Bioc.gff Version: 0.99.17 Command: /home/biocbuild/R/R/bin/R CMD build --keep-empty-dirs --no-resave-data Bioc.gff StartedAt: 2025-10-20 22:13:42 -0000 (Mon, 20 Oct 2025) EndedAt: 2025-10-20 22:14:50 -0000 (Mon, 20 Oct 2025) EllapsedTime: 68.0 seconds RetCode: 0 Status: OK PackageFile: Bioc.gff_0.99.17.tar.gz PackageFileSize: 289.9 KiB