Package: Bioc.gff Version: 1.0.0 Command: /home/biocbuild/bbs-3.22-bioc/R/bin/R CMD build --keep-empty-dirs --no-resave-data --md5 Bioc.gff StartedAt: 2025-11-06 16:29:36 -0500 (Thu, 06 Nov 2025) EndedAt: 2025-11-06 16:30:31 -0500 (Thu, 06 Nov 2025) EllapsedTime: 55.0 seconds RetCode: 0 Status: OK PackageFile: Bioc.gff_1.0.0.tar.gz PackageFileSize: 266.2 KiB