Package: Bioc.gff Version: 1.0.0 Command: rm -rf Bioc.gff.buildbin-libdir && mkdir Bioc.gff.buildbin-libdir && /Users/biocbuild/BBS/utils/build-universal.sh Bioc.gff_1.0.0.tar.gz /Library/Frameworks/R.framework/Resources/bin/R Bioc.gff.buildbin-libdir StartedAt: 2025-11-04 01:29:30 -0500 (Tue, 04 Nov 2025) EndedAt: 2025-11-04 01:29:53 -0500 (Tue, 04 Nov 2025) EllapsedTime: 22.2 seconds RetCode: 0 Status: OK PackageFile: Bioc.gff_1.0.0.tgz PackageFileSize: 369.1 KiB