Package: Biobase Version: 2.68.0 Command: E:\biocbuild\bbs-3.21-bioc\R\bin\R.exe CMD INSTALL Biobase StartedAt: 2025-08-14 15:36:06 -0400 (Thu, 14 Aug 2025) EndedAt: 2025-08-14 15:37:59 -0400 (Thu, 14 Aug 2025) EllapsedTime: 112.2 seconds RetCode: 0 Status: OK