Package: Biobase Version: 2.68.0 Command: E:\biocbuild\bbs-3.21-bioc\R\bin\R.exe CMD check --no-multiarch --install=check:Biobase.install-out.txt --library=E:\biocbuild\bbs-3.21-bioc\R\library --no-vignettes --timings Biobase_2.68.0.tar.gz StartedAt: 2025-08-14 23:47:38 -0400 (Thu, 14 Aug 2025) EndedAt: 2025-08-14 23:49:38 -0400 (Thu, 14 Aug 2025) EllapsedTime: 120.3 seconds RetCode: 0 Status: OK CheckDir: Biobase.Rcheck Warnings: 0