Package: Biobase Version: 2.68.0 Command: rm -rf Biobase.buildbin-libdir && mkdir Biobase.buildbin-libdir && E:\biocbuild\bbs-3.21-bioc\R\bin\R.exe CMD INSTALL --build --library=Biobase.buildbin-libdir Biobase_2.68.0.tar.gz StartedAt: 2025-08-15 08:50:18 -0400 (Fri, 15 Aug 2025) EndedAt: 2025-08-15 08:52:43 -0400 (Fri, 15 Aug 2025) EllapsedTime: 145.6 seconds RetCode: 0 Status: OK PackageFile: Biobase_2.68.0.zip PackageFileSize: 2.363 MiB