Package: Biobase Version: 2.68.0 Command: /home/biocbuild/R/R/bin/R CMD INSTALL Biobase StartedAt: 2025-10-13 20:23:13 -0000 (Mon, 13 Oct 2025) EndedAt: 2025-10-13 20:23:27 -0000 (Mon, 13 Oct 2025) EllapsedTime: 14.1 seconds RetCode: 0 Status: OK