############################################################################## ############################################################################## ### ### Running command: ### ### /Library/Frameworks/R.framework/Resources/bin/R CMD check --install=check:BioNAR.install-out.txt --library=/Library/Frameworks/R.framework/Resources/library --no-vignettes --timings BioNAR_1.10.0.tar.gz ### ############################################################################## ############################################################################## * using log directory ‘/Users/biocbuild/bbs-3.21-bioc/meat/BioNAR.Rcheck’ * using R version 4.5.0 RC (2025-04-04 r88126) * using platform: x86_64-apple-darwin20 * R was compiled by Apple clang version 14.0.0 (clang-1400.0.29.202) GNU Fortran (GCC) 14.2.0 * running under: macOS Monterey 12.7.6 * using session charset: UTF-8 * using option ‘--no-vignettes’ * checking for file ‘BioNAR/DESCRIPTION’ ... OK * this is package ‘BioNAR’ version ‘1.10.0’ * package encoding: UTF-8 * checking package namespace information ... OK * checking package dependencies ... OK * checking if this is a source package ... OK * checking if there is a namespace ... OK * checking for hidden files and directories ... OK * checking for portable file names ... OK * checking for sufficient/correct file permissions ... OK * checking whether package ‘BioNAR’ can be installed ... OK * checking installed package size ... INFO installed size is 6.8Mb sub-directories of 1Mb or more: extdata 6.1Mb * checking package directory ... OK * checking ‘build’ directory ... OK * checking DESCRIPTION meta-information ... OK * checking top-level files ... OK * checking for left-over files ... OK * checking index information ... OK * checking package subdirectories ... OK * checking code files for non-ASCII characters ... OK * checking R files for syntax errors ... OK * checking whether the package can be loaded ... OK * checking whether the package can be loaded with stated dependencies ... OK * checking whether the package can be unloaded cleanly ... OK * checking whether the namespace can be loaded with stated dependencies ... OK * checking whether the namespace can be unloaded cleanly ... OK * checking dependencies in R code ... NOTE Package in Depends field not imported from: ‘Rdpack’ These packages need to be imported from (in the NAMESPACE file) for when this namespace is loaded but not attached. There are ::: calls to the package's namespace in its code. A package almost never needs to use ::: for its own objects: ‘addNoise’ ‘gofs’ ‘highlightRate’ ‘plotSigmoid’ * checking S3 generic/method consistency ... OK * checking replacement functions ... OK * checking foreign function calls ... OK * checking R code for possible problems ... OK * checking Rd files ... OK * checking Rd metadata ... OK * checking Rd cross-references ... NOTE Unknown package ‘clusterCons’ in Rd xrefs * checking for missing documentation entries ... OK * checking for code/documentation mismatches ... OK * checking Rd \usage sections ... OK * checking Rd contents ... OK * checking for unstated dependencies in examples ... OK * checking contents of ‘data’ directory ... OK * checking data for non-ASCII characters ... OK * checking LazyData ... OK * checking data for ASCII and uncompressed saves ... OK * checking files in ‘vignettes’ ... OK * checking examples ... OK Examples with CPU (user + system) or elapsed time > 5s user system elapsed addEdgeAtts 11.043 2.633 14.442 plotEntropy 12.293 0.782 13.256 clusteringSummary 12.187 0.102 12.386 calcEntropy 11.071 0.820 11.987 getEntropy 10.945 0.779 11.827 getCentralityMatrix 9.731 0.585 10.412 annotateTopOntoOVG 9.278 0.745 10.098 getGraphCentralityECDF 8.880 0.594 9.551 annotateSCHanno 6.420 0.614 7.130 normModularity 6.144 0.577 6.818 annotateGOont 5.273 0.922 6.385 runPermDisease 5.969 0.150 6.176 calcSparsness 5.338 0.563 5.962 annotateGoBP 4.540 0.478 5.143 FitDegree 1.072 0.118 18.070 getRandomGraphCentrality 0.610 0.025 13.883 * checking for unstated dependencies in ‘tests’ ... OK * checking tests ... Running ‘testthat.R’ OK * checking for unstated dependencies in vignettes ... OK * checking package vignettes ... OK * checking running R code from vignettes ... SKIPPED * checking re-building of vignette outputs ... SKIPPED * checking PDF version of manual ... OK * DONE Status: 2 NOTEs See ‘/Users/biocbuild/bbs-3.21-bioc/meat/BioNAR.Rcheck/00check.log’ for details.