Package: BioCor Version: 1.32.0 Command: E:\biocbuild\bbs-3.21-bioc\R\bin\R.exe CMD check --no-multiarch --install=check:BioCor.install-out.txt --library=E:\biocbuild\bbs-3.21-bioc\R\library --no-vignettes --timings BioCor_1.32.0.tar.gz StartedAt: 2025-08-14 23:51:00 -0400 (Thu, 14 Aug 2025) EndedAt: 2025-08-15 00:01:14 -0400 (Fri, 15 Aug 2025) EllapsedTime: 614.0 seconds RetCode: 0 Status: OK CheckDir: BioCor.Rcheck Warnings: 0