Package: BindingSiteFinder Version: 2.7.1 Command: F:\biocbuild\bbs-3.22-bioc\R\bin\R.exe CMD check --no-multiarch --install=check:BindingSiteFinder.install-out.txt --library=F:\biocbuild\bbs-3.22-bioc\R\library --no-vignettes --timings BindingSiteFinder_2.7.1.tar.gz StartedAt: 2025-08-15 00:52:31 -0400 (Fri, 15 Aug 2025) EndedAt: 2025-08-15 01:18:25 -0400 (Fri, 15 Aug 2025) EllapsedTime: 1553.6 seconds RetCode: 0 Status: OK CheckDir: BindingSiteFinder.Rcheck Warnings: 0