Package: BindingSiteFinder Version: 2.7.1 Command: chmod a+r BindingSiteFinder -R && F:\biocbuild\bbs-3.22-bioc\R\bin\R.exe CMD build --keep-empty-dirs --no-resave-data BindingSiteFinder StartedAt: 2025-08-14 18:41:20 -0400 (Thu, 14 Aug 2025) EndedAt: 2025-08-14 18:46:16 -0400 (Thu, 14 Aug 2025) EllapsedTime: 296.0 seconds RetCode: 0 Status: OK PackageFile: BindingSiteFinder_2.7.1.tar.gz PackageFileSize: 2.021 MiB