Package: BindingSiteFinder Version: 2.8.0 Command: /home/biocbuild/bbs-3.22-bioc/R/bin/R CMD INSTALL BindingSiteFinder StartedAt: 2025-11-09 15:40:45 -0500 (Sun, 09 Nov 2025) EndedAt: 2025-11-09 15:41:36 -0500 (Sun, 09 Nov 2025) EllapsedTime: 51.3 seconds RetCode: 0 Status: OK