Package: BicARE Version: 1.66.0 Command: rm -rf BicARE.buildbin-libdir && mkdir BicARE.buildbin-libdir && E:\biocbuild\bbs-3.21-bioc\R\bin\R.exe CMD INSTALL --build --library=BicARE.buildbin-libdir BicARE_1.66.0.tar.gz StartedAt: 2025-08-15 08:49:58 -0400 (Fri, 15 Aug 2025) EndedAt: 2025-08-15 08:50:30 -0400 (Fri, 15 Aug 2025) EllapsedTime: 31.2 seconds RetCode: 0 Status: OK PackageFile: BicARE_1.66.0.zip PackageFileSize: 384.6 KiB