Package: BicARE Version: 1.68.0 Command: /home/biocbuild/bbs-3.22-bioc/R/bin/R CMD INSTALL BicARE StartedAt: 2025-11-17 18:00:37 -0500 (Mon, 17 Nov 2025) EndedAt: 2025-11-17 18:00:57 -0500 (Mon, 17 Nov 2025) EllapsedTime: 20.0 seconds RetCode: 0 Status: OK