Package: BicARE Version: 1.66.0 Command: /Library/Frameworks/R.framework/Resources/bin/R CMD INSTALL BicARE StartedAt: 2025-10-06 16:20:59 -0400 (Mon, 06 Oct 2025) EndedAt: 2025-10-06 16:21:40 -0400 (Mon, 06 Oct 2025) EllapsedTime: 41.0 seconds RetCode: 0 Status: OK