Package: BicARE Version: 1.66.0 Command: /home/biocbuild/R/R/bin/R CMD INSTALL BicARE StartedAt: 2025-10-02 21:00:38 -0000 (Thu, 02 Oct 2025) EndedAt: 2025-10-02 21:01:04 -0000 (Thu, 02 Oct 2025) EllapsedTime: 26.0 seconds RetCode: 0 Status: OK