Package: BicARE Version: 1.66.0 Command: /home/biocbuild/R/R/bin/R CMD check --install=check:BicARE.install-out.txt --library=/home/biocbuild/R/R/site-library --no-vignettes --timings BicARE_1.66.0.tar.gz StartedAt: 2025-10-03 06:22:26 -0000 (Fri, 03 Oct 2025) EndedAt: 2025-10-03 06:27:18 -0000 (Fri, 03 Oct 2025) EllapsedTime: 292.2 seconds RetCode: 0 Status: OK CheckDir: BicARE.Rcheck Warnings: 0