Package: BicARE Version: 1.66.0 Command: /Library/Frameworks/R.framework/Resources/bin/R CMD check --install=check:BicARE.install-out.txt --library=/Library/Frameworks/R.framework/Resources/library --no-vignettes --timings BicARE_1.66.0.tar.gz StartedAt: 2025-04-21 18:18:19 -0400 (Mon, 21 Apr 2025) EndedAt: 2025-04-21 18:21:27 -0400 (Mon, 21 Apr 2025) EllapsedTime: 188.0 seconds RetCode: 0 Status: OK CheckDir: BicARE.Rcheck Warnings: 0