Package: BicARE Version: 1.66.0 Command: /Library/Frameworks/R.framework/Resources/bin/R CMD INSTALL BicARE StartedAt: 2025-10-02 17:39:09 -0400 (Thu, 02 Oct 2025) EndedAt: 2025-10-02 17:39:31 -0400 (Thu, 02 Oct 2025) EllapsedTime: 22.0 seconds RetCode: 0 Status: OK