Package: BicARE Version: 1.66.0 Command: /Library/Frameworks/R.framework/Resources/bin/R CMD check --install=check:BicARE.install-out.txt --library=/Library/Frameworks/R.framework/Resources/library --no-vignettes --timings BicARE_1.66.0.tar.gz StartedAt: 2025-10-07 14:56:17 -0400 (Tue, 07 Oct 2025) EndedAt: 2025-10-07 15:07:32 -0400 (Tue, 07 Oct 2025) EllapsedTime: 675.3 seconds RetCode: 0 Status: OK CheckDir: BicARE.Rcheck Warnings: 0