Package: BiRewire Version: 3.41.0 Command: F:\biocbuild\bbs-3.22-bioc\R\bin\R.exe CMD INSTALL BiRewire StartedAt: 2025-08-14 15:22:55 -0400 (Thu, 14 Aug 2025) EndedAt: 2025-08-14 15:23:23 -0400 (Thu, 14 Aug 2025) EllapsedTime: 28.2 seconds RetCode: 0 Status: OK