Package: BiRewire Version: 3.41.0 Command: rm -rf BiRewire.buildbin-libdir && mkdir BiRewire.buildbin-libdir && F:\biocbuild\bbs-3.22-bioc\R\bin\R.exe CMD INSTALL --build --library=BiRewire.buildbin-libdir BiRewire_3.41.0.tar.gz StartedAt: 2025-08-15 09:51:21 -0400 (Fri, 15 Aug 2025) EndedAt: 2025-08-15 09:51:45 -0400 (Fri, 15 Aug 2025) EllapsedTime: 23.4 seconds RetCode: 0 Status: OK PackageFile: BiRewire_3.41.0.zip PackageFileSize: 626.4 KiB