Package: BiRewire Version: 3.42.0 Command: /home/biocbuild/bbs-3.22-bioc/R/bin/R CMD INSTALL BiRewire StartedAt: 2025-11-06 15:04:51 -0500 (Thu, 06 Nov 2025) EndedAt: 2025-11-06 15:05:06 -0500 (Thu, 06 Nov 2025) EllapsedTime: 14.6 seconds RetCode: 0 Status: OK