Package: BiGGR Version: 1.45.0 Command: chmod a+r BiGGR -R && F:\biocbuild\bbs-3.22-bioc\R\bin\R.exe CMD build --keep-empty-dirs --no-resave-data BiGGR StartedAt: 2025-08-14 18:40:41 -0400 (Thu, 14 Aug 2025) EndedAt: 2025-08-14 18:40:44 -0400 (Thu, 14 Aug 2025) EllapsedTime: 3.0 seconds RetCode: 1 Status: ERROR PackageFile: None PackageFileSize: NA