Package: BiGGR Version: 1.45.0 Command: rm -rf BiGGR.buildbin-libdir && mkdir BiGGR.buildbin-libdir && F:\biocbuild\bbs-3.22-bioc\R\bin\R.exe CMD INSTALL --build --library=BiGGR.buildbin-libdir BiGGR_1.45.0.tar.gz StartedAt: 2025-06-19 08:36:57 -0400 (Thu, 19 Jun 2025) EndedAt: 2025-06-19 08:37:27 -0400 (Thu, 19 Jun 2025) EllapsedTime: 29.7 seconds RetCode: 0 Status: OK PackageFile: BiGGR_1.45.0.zip PackageFileSize: 4.275 MiB