Package: BiGGR Version: 1.46.0 Command: /home/biocbuild/bbs-3.22-bioc/R/bin/R CMD INSTALL BiGGR StartedAt: 2025-11-06 16:09:20 -0500 (Thu, 06 Nov 2025) EndedAt: 2025-11-06 16:09:21 -0500 (Thu, 06 Nov 2025) EllapsedTime: 0.2 seconds RetCode: 1 Status: ERROR