Package: BiGGR Version: 1.45.0 Command: /home/biocbuild/bbs-3.22-bioc/R/bin/R CMD check --install=check:BiGGR.install-out.txt --library=/home/biocbuild/bbs-3.22-bioc/R/site-library --timings BiGGR_1.45.0.tar.gz StartedAt: 2025-06-18 21:08:02 -0400 (Wed, 18 Jun 2025) EndedAt: 2025-06-18 21:11:42 -0400 (Wed, 18 Jun 2025) EllapsedTime: 220.2 seconds RetCode: 0 Status: OK CheckDir: BiGGR.Rcheck Warnings: 0