Package: BiGGR Version: 1.46.0 Command: /home/biocbuild/bbs-3.22-bioc/R/bin/R CMD build --keep-empty-dirs --no-resave-data --md5 BiGGR StartedAt: 2025-11-06 16:28:38 -0500 (Thu, 06 Nov 2025) EndedAt: 2025-11-06 16:28:39 -0500 (Thu, 06 Nov 2025) EllapsedTime: 1.0 seconds RetCode: 1 Status: ERROR PackageFile: None PackageFileSize: NA