Package: BiFET Version: 1.28.0 Command: E:\biocbuild\bbs-3.21-bioc\R\bin\R.exe CMD check --no-multiarch --install=check:BiFET.install-out.txt --library=E:\biocbuild\bbs-3.21-bioc\R\library --no-vignettes --timings BiFET_1.28.0.tar.gz StartedAt: 2025-08-14 23:45:53 -0400 (Thu, 14 Aug 2025) EndedAt: 2025-08-14 23:51:03 -0400 (Thu, 14 Aug 2025) EllapsedTime: 310.3 seconds RetCode: 0 Status: OK CheckDir: BiFET.Rcheck Warnings: 0