Package: BiFET Version: 1.30.0 Command: /home/biocbuild/bbs-3.22-bioc/R/bin/R CMD INSTALL BiFET StartedAt: 2025-11-06 15:23:23 -0500 (Thu, 06 Nov 2025) EndedAt: 2025-11-06 15:23:31 -0500 (Thu, 06 Nov 2025) EllapsedTime: 8.4 seconds RetCode: 0 Status: OK