Package: BiFET Version: 1.30.0 Command: /home/biocbuild/bbs-3.22-bioc/R/bin/R CMD check --install=check:BiFET.install-out.txt --library=/home/biocbuild/bbs-3.22-bioc/R/site-library --timings BiFET_1.30.0.tar.gz StartedAt: 2025-11-06 21:24:56 -0500 (Thu, 06 Nov 2025) EndedAt: 2025-11-06 21:28:02 -0500 (Thu, 06 Nov 2025) EllapsedTime: 186.2 seconds RetCode: 0 Status: OK CheckDir: BiFET.Rcheck Warnings: 0