Package: BgeeDB Version: 2.34.0 Command: E:\biocbuild\bbs-3.21-bioc\R\bin\R.exe CMD check --no-multiarch --install=check:BgeeDB.install-out.txt --library=E:\biocbuild\bbs-3.21-bioc\R\library --no-vignettes --timings BgeeDB_2.34.0.tar.gz StartedAt: 2025-08-14 23:45:19 -0400 (Thu, 14 Aug 2025) EndedAt: 2025-08-15 00:03:44 -0400 (Fri, 15 Aug 2025) EllapsedTime: 1105.7 seconds RetCode: 0 Status: OK CheckDir: BgeeDB.Rcheck Warnings: 0