Package: BgeeCall Version: 1.24.1 Command: /home/biocbuild/R/R/bin/R CMD check --install=check:BgeeCall.install-out.txt --library=/home/biocbuild/R/R/site-library --no-vignettes --timings BgeeCall_1.24.1.tar.gz StartedAt: 2025-09-26 07:44:29 -0000 (Fri, 26 Sep 2025) EndedAt: 2025-09-26 08:25:01 -0000 (Fri, 26 Sep 2025) EllapsedTime: 2432.3 seconds RetCode: None Status: TIMEOUT CheckDir: BgeeCall.Rcheck Warnings: NA