Package: BayesKnockdown Version: 1.36.0 Command: /Library/Frameworks/R.framework/Resources/bin/R CMD INSTALL BayesKnockdown StartedAt: 2025-10-30 15:13:00 -0400 (Thu, 30 Oct 2025) EndedAt: 2025-10-30 15:13:05 -0400 (Thu, 30 Oct 2025) EllapsedTime: 4.9 seconds RetCode: 0 Status: OK