Package: BayesKnockdown Version: 1.36.0 Command: /Library/Frameworks/R.framework/Resources/bin/R CMD check --install=check:BayesKnockdown.install-out.txt --library=/Library/Frameworks/R.framework/Resources/library --no-vignettes --timings BayesKnockdown_1.36.0.tar.gz StartedAt: 2025-10-30 19:29:51 -0400 (Thu, 30 Oct 2025) EndedAt: 2025-10-30 19:30:25 -0400 (Thu, 30 Oct 2025) EllapsedTime: 33.3 seconds RetCode: 0 Status: OK CheckDir: BayesKnockdown.Rcheck Warnings: 0