Package: BayesKnockdown Version: 1.36.0 Command: /Library/Frameworks/R.framework/Resources/bin/R CMD build --keep-empty-dirs --no-resave-data BayesKnockdown StartedAt: 2025-10-30 16:03:50 -0400 (Thu, 30 Oct 2025) EndedAt: 2025-10-30 16:04:04 -0400 (Thu, 30 Oct 2025) EllapsedTime: 13.9 seconds RetCode: 0 Status: OK PackageFile: BayesKnockdown_1.36.0.tar.gz PackageFileSize: 211.3 KiB