Package: BayesKnockdown Version: 1.36.0 Command: rm -rf BayesKnockdown.buildbin-libdir && mkdir BayesKnockdown.buildbin-libdir && /Users/biocbuild/BBS/utils/build-universal.sh BayesKnockdown_1.36.0.tar.gz /Library/Frameworks/R.framework/Resources/bin/R BayesKnockdown.buildbin-libdir StartedAt: 2025-10-31 01:13:46 -0400 (Fri, 31 Oct 2025) EndedAt: 2025-10-31 01:13:52 -0400 (Fri, 31 Oct 2025) EllapsedTime: 6.0 seconds RetCode: 0 Status: OK PackageFile: BayesKnockdown_1.36.0.tgz PackageFileSize: 226 KiB