Package: BatchSVG Version: 1.2.0 Command: /home/biocbuild/R/R/bin/R CMD build --keep-empty-dirs --no-resave-data BatchSVG StartedAt: 2025-11-21 00:29:04 -0000 (Fri, 21 Nov 2025) EndedAt: 2025-11-21 00:39:56 -0000 (Fri, 21 Nov 2025) EllapsedTime: 652.2 seconds RetCode: 0 Status: OK PackageFile: BatchSVG_1.2.0.tar.gz PackageFileSize: 1.038 MiB