Package: BatchSVG Version: 1.2.0 Command: /home/biocbuild/bbs-3.22-bioc/R/bin/R CMD check --install=check:BatchSVG.install-out.txt --library=/home/biocbuild/bbs-3.22-bioc/R/site-library --timings BatchSVG_1.2.0.tar.gz StartedAt: 2025-11-09 21:28:50 -0500 (Sun, 09 Nov 2025) EndedAt: 2025-11-09 21:40:10 -0500 (Sun, 09 Nov 2025) EllapsedTime: 680.3 seconds RetCode: 0 Status: OK CheckDir: BatchSVG.Rcheck Warnings: 0