Package: BatchQC Version: 2.5.14 Command: /home/biocbuild/R/R/bin/R CMD INSTALL BatchQC StartedAt: 2025-10-23 21:19:33 -0000 (Thu, 23 Oct 2025) EndedAt: 2025-10-23 21:20:25 -0000 (Thu, 23 Oct 2025) EllapsedTime: 52.0 seconds RetCode: 0 Status: OK