Package: BatchQC Version: 2.5.14 Command: /home/biocbuild/R/R/bin/R CMD build --keep-empty-dirs --no-resave-data BatchQC StartedAt: 2025-10-20 21:58:08 -0000 (Mon, 20 Oct 2025) EndedAt: 2025-10-20 22:17:06 -0000 (Mon, 20 Oct 2025) EllapsedTime: 1138.3 seconds RetCode: 0 Status: OK PackageFile: BatchQC_2.5.14.tar.gz PackageFileSize: 4.036 MiB