Package: BatchQC Version: 2.5.0 Command: F:\biocbuild\bbs-3.22-bioc\R\bin\R.exe CMD check --no-multiarch --install=check:BatchQC.install-out.txt --library=F:\biocbuild\bbs-3.22-bioc\R\library --no-vignettes --timings BatchQC_2.5.0.tar.gz StartedAt: 2025-08-15 00:43:55 -0400 (Fri, 15 Aug 2025) EndedAt: 2025-08-15 00:52:29 -0400 (Fri, 15 Aug 2025) EllapsedTime: 514.5 seconds RetCode: 0 Status: OK CheckDir: BatchQC.Rcheck Warnings: 0