Package: BatchQC Version: 2.6.0 Command: /home/biocbuild/bbs-3.22-bioc/R/bin/R CMD INSTALL BatchQC StartedAt: 2025-11-02 16:11:33 -0500 (Sun, 02 Nov 2025) EndedAt: 2025-11-02 16:12:13 -0500 (Sun, 02 Nov 2025) EllapsedTime: 40.8 seconds RetCode: 0 Status: OK