Package: BatchQC Version: 2.6.0 Command: /Library/Frameworks/R.framework/Resources/bin/R CMD INSTALL BatchQC StartedAt: 2025-11-03 15:29:22 -0500 (Mon, 03 Nov 2025) EndedAt: 2025-11-03 15:29:38 -0500 (Mon, 03 Nov 2025) EllapsedTime: 15.5 seconds RetCode: 0 Status: OK