Package: BatchQC Version: 2.6.0 Command: /Library/Frameworks/R.framework/Resources/bin/R CMD build --keep-empty-dirs --no-resave-data BatchQC StartedAt: 2025-11-03 15:42:46 -0500 (Mon, 03 Nov 2025) EndedAt: 2025-11-03 15:44:59 -0500 (Mon, 03 Nov 2025) EllapsedTime: 133.5 seconds RetCode: 0 Status: OK PackageFile: BatchQC_2.6.0.tar.gz PackageFileSize: 4.263 MiB