Package: BasicSTARRseq Version: 1.37.1 Command: /home/biocbuild/R/R/bin/R CMD check --install=check:BasicSTARRseq.install-out.txt --library=/home/biocbuild/R/R/site-library --no-vignettes --timings BasicSTARRseq_1.37.1.tar.gz StartedAt: 2025-10-21 04:42:23 -0000 (Tue, 21 Oct 2025) EndedAt: 2025-10-21 04:45:57 -0000 (Tue, 21 Oct 2025) EllapsedTime: 213.1 seconds RetCode: 0 Status: OK CheckDir: BasicSTARRseq.Rcheck Warnings: 0