Package: BasicSTARRseq Version: 1.38.0 Command: /home/biocbuild/bbs-3.22-bioc/R/bin/R CMD INSTALL BasicSTARRseq StartedAt: 2025-11-10 15:30:37 -0500 (Mon, 10 Nov 2025) EndedAt: 2025-11-10 15:31:05 -0500 (Mon, 10 Nov 2025) EllapsedTime: 28.3 seconds RetCode: 0 Status: OK