Package: BaseSpaceR Version: 1.52.0 Command: /Library/Frameworks/R.framework/Resources/bin/R CMD check --install=check:BaseSpaceR.install-out.txt --library=/Library/Frameworks/R.framework/Resources/library --no-vignettes --timings BaseSpaceR_1.52.0.tar.gz StartedAt: 2025-10-14 00:16:59 -0400 (Tue, 14 Oct 2025) EndedAt: 2025-10-14 00:18:09 -0400 (Tue, 14 Oct 2025) EllapsedTime: 69.5 seconds RetCode: 0 Status: WARNINGS CheckDir: BaseSpaceR.Rcheck Warnings: 1